BEGIN:VCALENDAR
PRODID:-//Solspace/Calendar 2.x//EN
VERSION:2.0
CALSCALE:GREGORIAN
BEGIN:VEVENT
UID:d34a3131a4ca8403d3142f44463eff10@solspace.com
DTSTAMP:20260421T100437
DTSTART:20251213T103000
DTEND:20251213T113000
SUMMARY:Shabbat Morning Service with D'var Torah from Ari Douglas
END:VEVENT
END:VCALENDAR
