BEGIN:VCALENDAR
PRODID:-//Solspace/Calendar 2.x//EN
VERSION:2.0
CALSCALE:GREGORIAN
BEGIN:VEVENT
UID:ed550d6c96dc0ee3d2833258b0e075a7@solspace.com
DTSTAMP:20260421T100311
DTSTART:20251211T180000
DTEND:20251211T190000
SUMMARY:WRJ/Beth Israel Sisterhood December Board Meeting
END:VEVENT
END:VCALENDAR
