BEGIN:VCALENDAR
PRODID:-//Solspace/Calendar 2.x//EN
VERSION:2.0
CALSCALE:GREGORIAN
BEGIN:VEVENT
UID:7a703db0f3e0808e93aa7d7540d21f5c@solspace.com
DTSTAMP:20260421T082912
DTSTART:20260123T190000
DTEND:20260123T200000
SUMMARY:B'nei Mitzvah Parent Chat
END:VEVENT
END:VCALENDAR
