BEGIN:VCALENDAR
PRODID:-//Solspace/Calendar 2.x//EN
VERSION:2.0
CALSCALE:GREGORIAN
BEGIN:VEVENT
UID:239bc4ecb541524a1c0ca013ffaade8a@solspace.com
DTSTAMP:20260421T082905
DTSTART:20260119T100000
DTEND:20260119T120000
SUMMARY:NOW FULL!: SOLVE Clean Up in Irving Park (Rev. Dr. Martin Lu
 ther King\, Jr. Day of Service)
END:VEVENT
END:VCALENDAR
