BEGIN:VCALENDAR
PRODID:-//Solspace/Calendar 2.x//EN
VERSION:2.0
CALSCALE:GREGORIAN
BEGIN:VEVENT
UID:f48b0941ff76a591ed27663f8853f2a8@solspace.com
DTSTAMP:20260421T084517
DTSTART:20260119T100000
DTEND:20260119T120000
SUMMARY:Sack Lunch Preparation for Blanchet House  (Rev. Dr. Martin 
 Luther King\, Jr. Day of Service)
END:VEVENT
END:VCALENDAR
