BEGIN:VCALENDAR
PRODID:-//Solspace/Calendar 2.x//EN
VERSION:2.0
CALSCALE:GREGORIAN
BEGIN:VEVENT
UID:cd82137642b7646060f17d5435bdf9d7@solspace.com
DTSTAMP:20260421T082540
DTSTART:20260114T190000
DTEND:20260114T201500
SUMMARY:January  IDEA Committee Meeting
END:VEVENT
END:VCALENDAR
