BEGIN:VCALENDAR
PRODID:-//Solspace/Calendar 2.x//EN
VERSION:2.0
CALSCALE:GREGORIAN
BEGIN:VEVENT
UID:ea31866938ef29d48e811170516d9c71@solspace.com
DTSTAMP:20260421T103124
DTSTART:20260708T190000
DTEND:20260708T201500
SUMMARY:July IDEA Committee Meeting
END:VEVENT
END:VCALENDAR
