BEGIN:VCALENDAR
PRODID:-//Solspace/Calendar 2.x//EN
VERSION:2.0
CALSCALE:GREGORIAN
BEGIN:VEVENT
UID:710917828bce9fe1d8b1e94017b6cd69@solspace.com
DTSTAMP:20260421T084500
DTSTART:20260131T090000
DTEND:20260131T100000
SUMMARY:Torah Study - Hybrid
END:VEVENT
END:VCALENDAR
