BEGIN:VCALENDAR
PRODID:-//Solspace/Calendar 2.x//EN
VERSION:2.0
CALSCALE:GREGORIAN
BEGIN:VEVENT
UID:8dc06979f8ae5932fc6747c1873b1fa0@solspace.com
DTSTAMP:20260421T100132
DTSTART:20260815T170000
DTEND:20260815T180000
SUMMARY:Havdalah Bar Mitzvah of Levi Stein
END:VEVENT
END:VCALENDAR
