BEGIN:VCALENDAR
PRODID:-//Solspace/Calendar 2.x//EN
VERSION:2.0
CALSCALE:GREGORIAN
BEGIN:VEVENT
UID:75c92cfa25ce5dc7941948bf9f34c900@solspace.com
DTSTAMP:20260421T082646
DTSTART:20260718T103000
DTEND:20260718T113000
SUMMARY:Bat Mitzvah of Stella Soltesz and Shabbat Morning Service
END:VEVENT
END:VCALENDAR
