BEGIN:VCALENDAR
PRODID:-//Solspace/Calendar 2.x//EN
VERSION:2.0
CALSCALE:GREGORIAN
BEGIN:VEVENT
UID:aac294cb74263a7a3ee8fc35e58b9ffd@solspace.com
DTSTAMP:20260421T084401
DTSTART:20260725T103000
DTEND:20260725T113000
SUMMARY:Bat Mitzvah of Lucina Galbraith-Swiryn and Shabbat Morning S
 ervice
END:VEVENT
END:VCALENDAR
