BEGIN:VCALENDAR
PRODID:-//Solspace/Calendar 2.x//EN
VERSION:2.0
CALSCALE:GREGORIAN
BEGIN:VEVENT
UID:dc9f4cc893eb428345421ed71e2e8ce9@solspace.com
DTSTAMP:20260421T112818
DTSTART:20260815T103000
DTEND:20260815T113000
SUMMARY:Bar Mitzvah of Sylas Goldman and Shabbat Morning Service
END:VEVENT
END:VCALENDAR
