BEGIN:VCALENDAR
PRODID:-//Solspace/Calendar 2.x//EN
VERSION:2.0
CALSCALE:GREGORIAN
BEGIN:VEVENT
UID:2cba8264368d69c4c50ef404afc492c5@solspace.com
DTSTAMP:20260421T174411
DTSTART:20260527T173000
DTEND:20260527T183000
SUMMARY:168th Annual Meeting
END:VEVENT
END:VCALENDAR
