BEGIN:VCALENDAR
PRODID:-//Solspace/Calendar 2.x//EN
VERSION:2.0
CALSCALE:GREGORIAN
BEGIN:VEVENT
UID:3765af522f5cd96f70c920467b649d15@solspace.com
DTSTAMP:20260425T142645
DTSTART:20260911T180000
DTEND:20260911T190000
RRULE:FREQ=WEEKLY;UNTIL=33330910T235959Z;INTERVAL=1;BYDAY=FR
SUMMARY:Shabbat Evening Service at CBI
END:VEVENT
END:VCALENDAR
