BEGIN:VCALENDAR
PRODID:-//Solspace/Calendar 2.x//EN
VERSION:2.0
CALSCALE:GREGORIAN
BEGIN:VEVENT
UID:3cc6ddd6659e8695e244dde21287552a@solspace.com
DTSTAMP:20260421T210723
DTSTART:20250503T103000
DTEND:20250503T120000
SUMMARY:Bar Mitzvah of George Symms and Shabbat Morning Service
END:VEVENT
END:VCALENDAR
