BEGIN:VCALENDAR
PRODID:-//Solspace/Calendar 2.x//EN
VERSION:2.0
CALSCALE:GREGORIAN
BEGIN:VEVENT
UID:054806ed626b6f25b5176ed7b5df535a@solspace.com
DTSTAMP:20260421T210658
DTSTART:20250503T090000
DTEND:20250503T100000
RRULE:FREQ=DAILY;UNTIL=20251116T235959Z;INTERVAL=14
EXDATE:20250712T090000,20250719T090000,20250802T090000,20250816T090000,20250823T090000,20250906T090000,20250920T090000,20260103T090000
SUMMARY:Tot Shabbat
END:VEVENT
END:VCALENDAR
