BEGIN:VCALENDAR
PRODID:-//Solspace/Calendar 2.x//EN
VERSION:2.0
CALSCALE:GREGORIAN
BEGIN:VEVENT
UID:a25a499204d362087ed6a6f7f85d0625@solspace.com
DTSTAMP:20260421T223423
DTSTART:20250406T093000
DTEND:20250406T121500
RRULE:FREQ=WEEKLY;UNTIL=20250518T235959Z;INTERVAL=1;BYDAY=SU
EXDATE:20250413T093000
SUMMARY:Elementary School - CBI Religious School
END:VEVENT
END:VCALENDAR
