BEGIN:VCALENDAR
PRODID:-//Solspace/Calendar 2.x//EN
VERSION:2.0
CALSCALE:GREGORIAN
BEGIN:VEVENT
UID:2cb07d7fc10affa1c3d875f396a0c19f@solspace.com
DTSTAMP:20260421T210852
DTSTART:20250406T093000
DTEND:20250406T103000
RRULE:FREQ=WEEKLY;UNTIL=20250518T235959Z;INTERVAL=1;BYDAY=SU
EXDATE:20250413T093000
SUMMARY:Middle School - CBI Religious School
END:VEVENT
END:VCALENDAR
