BEGIN:VCALENDAR
PRODID:-//Solspace/Calendar 2.x//EN
VERSION:2.0
CALSCALE:GREGORIAN
BEGIN:VEVENT
UID:ca3a188046b2a1b074b4b8e68b6973aa@solspace.com
DTSTAMP:20260421T210734
DTSTART:20250406T121500
DTEND:20250406T140000
RRULE:FREQ=WEEKLY;UNTIL=20250518T235959Z;INTERVAL=1;BYDAY=SU
EXDATE:20250511T121500
SUMMARY:High  School - CBI Religious School 5785
END:VEVENT
END:VCALENDAR
