BEGIN:VCALENDAR
PRODID:-//Solspace/Calendar 2.x//EN
VERSION:2.0
CALSCALE:GREGORIAN
BEGIN:VEVENT
UID:3a7de72d48053c611fe0d7fb8d8b4799@solspace.com
DTSTAMP:20260421T210657
DTSTART:20250504T093000
DTEND:20250504T121500
SUMMARY:Sixth Grade Tallit Program
END:VEVENT
END:VCALENDAR
