BEGIN:VCALENDAR
PRODID:-//Solspace/Calendar 2.x//EN
VERSION:2.0
CALSCALE:GREGORIAN
BEGIN:VEVENT
UID:4affe33295973d07d8815de2ef6c3e79@solspace.com
DTSTAMP:20260421T210657
DTSTART:20250504T093000
DTEND:20250504T121500
SUMMARY:Seventh Grade Introduction to High School
END:VEVENT
END:VCALENDAR
