BEGIN:VCALENDAR
PRODID:-//Solspace/Calendar 2.x//EN
VERSION:2.0
CALSCALE:GREGORIAN
BEGIN:VEVENT
UID:65f5d4de737d08904eabe01f87a0ea41@solspace.com
DTSTAMP:20260421T210605
DTSTART:20250504T170000
DTEND:20250504T190000
SUMMARY:May the Fourth Be With You
END:VEVENT
END:VCALENDAR
