BEGIN:VCALENDAR
PRODID:-//Solspace/Calendar 2.x//EN
VERSION:2.0
CALSCALE:GREGORIAN
BEGIN:VEVENT
UID:ffe67fd3c9f045af8e3a85656de4cef8@solspace.com
DTSTAMP:20260421T210659
DTSTART:20250506T183000
DTEND:20250506T200000
SUMMARY:Omek l'Chodesh
END:VEVENT
END:VCALENDAR
