BEGIN:VCALENDAR
PRODID:-//Solspace/Calendar 2.x//EN
VERSION:2.0
CALSCALE:GREGORIAN
BEGIN:VEVENT
UID:99695a5035b3c44bf9afa4e31323a9c5@solspace.com
DTSTAMP:20260421T192138
DTSTART:20250507T183000
DTEND:20250507T200000
RRULE:FREQ=MONTHLY;UNTIL=20250605T235959Z;INTERVAL=1;BYDAY=1WE
SUMMARY:WRJ/Beth Israel Sisterhood Mahjong Meetup
END:VEVENT
END:VCALENDAR
