BEGIN:VCALENDAR
PRODID:-//Solspace/Calendar 2.x//EN
VERSION:2.0
CALSCALE:GREGORIAN
BEGIN:VEVENT
UID:616c7628e75b5dda230b3a939c72b30a@solspace.com
DTSTAMP:20260421T210605
DTSTART:20250508T180000
DTEND:20250508T193000
SUMMARY:WRJ/Beth Israel Sisterhood Board Meeting
END:VEVENT
END:VCALENDAR
