BEGIN:VCALENDAR
PRODID:-//Solspace/Calendar 2.x//EN
VERSION:2.0
CALSCALE:GREGORIAN
BEGIN:VEVENT
UID:00bd3d1c7ef49b73737ba771d5f7b6c0@solspace.com
DTSTAMP:20260421T210810
DTSTART:20250510T103000
DTEND:20250510T120000
SUMMARY:Bat Mitzvah of Mila Wolf and Shabbat Morning Service
END:VEVENT
END:VCALENDAR
