BEGIN:VCALENDAR
PRODID:-//Solspace/Calendar 2.x//EN
VERSION:2.0
CALSCALE:GREGORIAN
BEGIN:VEVENT
UID:69404713a1322566382bcc18f7dd301b@solspace.com
DTSTAMP:20260421T210724
DTSTART:20250510T170000
DTEND:20250510T183000
SUMMARY:Havdallah Bar Mitzvah of Elliot Hoffman
END:VEVENT
END:VCALENDAR
