BEGIN:VCALENDAR
PRODID:-//Solspace/Calendar 2.x//EN
VERSION:2.0
CALSCALE:GREGORIAN
BEGIN:VEVENT
UID:f5ead1ec2ed5b1076b879dc0fa88d10c@solspace.com
DTSTAMP:20260421T210809
DTSTART:20250518T091500
DTEND:20250518T121500
SUMMARY:Fifth Grade Family Program - Holocaust Memorial Hike
END:VEVENT
END:VCALENDAR
