BEGIN:VCALENDAR
PRODID:-//Solspace/Calendar 2.x//EN
VERSION:2.0
CALSCALE:GREGORIAN
BEGIN:VEVENT
UID:8c099437522eb119aa90fb9dd67c24cb@solspace.com
DTSTAMP:20260421T210851
DTSTART:20250518T130000
DTEND:20250518T140000
SUMMARY:Tenth Grade Confirmation
END:VEVENT
END:VCALENDAR
