BEGIN:VCALENDAR
PRODID:-//Solspace/Calendar 2.x//EN
VERSION:2.0
CALSCALE:GREGORIAN
BEGIN:VEVENT
UID:83dea9eeb19ec610341dc6097bbfb748@solspace.com
DTSTAMP:20260421T210724
DTSTART:20250524T103000
DTEND:20250524T120000
SUMMARY:B'not Mitzvah of Payton Pillsbury and Leo Pillsbury and Shab
 bat Morning Service
END:VEVENT
END:VCALENDAR
