BEGIN:VCALENDAR
PRODID:-//Solspace/Calendar 2.x//EN
VERSION:2.0
CALSCALE:GREGORIAN
BEGIN:VEVENT
UID:f72e9bbf1bfae48bfc0f6720a91d76b6@solspace.com
DTSTAMP:20260420T100302
DTSTART:20250527T100000
DTEND:20250527T120000
SUMMARY:Touch Drawing (From Drawing from Your Soul: a CBI Circle)
END:VEVENT
END:VCALENDAR
