BEGIN:VCALENDAR
PRODID:-//Solspace/Calendar 2.x//EN
VERSION:2.0
CALSCALE:GREGORIAN
BEGIN:VEVENT
UID:d29392347675ec48a4ff54ca48ba573a@solspace.com
DTSTAMP:20260421T211200
DTSTART:20250530T180000
DTEND:20250530T190000
SUMMARY:Shavuot Storytelling and Shabbat Evening Service
END:VEVENT
END:VCALENDAR
