BEGIN:VCALENDAR
PRODID:-//Solspace/Calendar 2.x//EN
VERSION:2.0
CALSCALE:GREGORIAN
BEGIN:VEVENT
UID:ef800f9e925cc2bb1eaf408188ca09a9@solspace.com
DTSTAMP:20260421T192220
DTSTART:20250620T190000
DTEND:20250620T200000
SUMMARY:Omek Wine and Cheese Tasting
END:VEVENT
END:VCALENDAR
