BEGIN:VCALENDAR
PRODID:-//Solspace/Calendar 2.x//EN
VERSION:2.0
CALSCALE:GREGORIAN
BEGIN:VEVENT
UID:7fa3bd076bd655154843d65ddca64a87@solspace.com
DTSTAMP:20260421T210810
DTSTART:20250531T103000
DTEND:20250531T120000
SUMMARY:Bar Mitzvah of Andrew Cox and Shabbat Morning Service
END:VEVENT
END:VCALENDAR
